BEGIN:VCALENDAR
VERSION:2.0
PRODID:-//eventon.com NONSGML v1.0//EN
CALSCALE:GREGORIAN
METHOD:PUBLISH
BEGIN:VEVENT
UID:69e5fed954c03
DTSTAMP:20260420T102425Z
DTSTART:20260901
DTEND:20261001
LOCATION:
SUMMARY:5th Annual Patriots PT
DESCRIPTION:5th Annual Patriots PT will take place in September 2026…. mo
 re information coming soon!\nhttps://www.ladyblueandgold.com/events/5th-ann
 ual-patriots-pt/
URL:https://www.ladyblueandgold.com/events/5th-annual-patriots-pt/
END:VEVENT
END:VCALENDAR