BEGIN:VCALENDAR
VERSION:2.0
PRODID:-//eventon.com NONSGML v1.0//EN
CALSCALE:GREGORIAN
METHOD:PUBLISH
BEGIN:VEVENT
UID:69e751700233e
DTSTAMP:20260421T102904Z
DTSTART:20260516
DTEND:20260517
LOCATION:
SUMMARY:State Police 5k Chase
DESCRIPTION:State Police 5k Chase1040 River Road\,  Ewing. More information
  to follow….\nhttps://www.ladyblueandgold.com/events/state-police-5k-chas
 e/
URL:https://www.ladyblueandgold.com/events/state-police-5k-chase/
END:VEVENT
END:VCALENDAR