BEGIN:VCALENDAR
VERSION:2.0
PRODID:-//eventon.com NONSGML v1.0//EN
CALSCALE:GREGORIAN
METHOD:PUBLISH
BEGIN:VEVENT
UID:69e60180bc43e
DTSTAMP:20260420T103544Z
DTSTART:20260326T120000Z
DTEND:20260326T190000Z
LOCATION:
SUMMARY: Vendor at the New Jersey Women in Law Enforcement Conference
DESCRIPTION:Vendor at the New Jersey Women in Law Enforcement Conference8 a
 m-3 pmAmerican Dream &#8211; Freehold\nhttps://www.ladyblueandgold.com/even
 ts/vendor-at-the-new-jersey-women-in-law-enforcement-conference/
URL:https://www.ladyblueandgold.com/events/vendor-at-the-new-jersey-women-in-law-enforcement-conference/
END:VEVENT
END:VCALENDAR